BEGIN:VCALENDAR
VERSION:2.0
PRODID:-//ChamberMaster//Event Calendar 2.0//EN
METHOD:PUBLISH
X-PUBLISHED-TTL:P3D
REFRESH-INTERVAL:P3D
CALSCALE:GREGORIAN
BEGIN:VEVENT
DTSTART:20220922T223000Z
DTEND:20220923T000000Z
X-MICROSOFT-CDO-ALLDAYEVENT:FALSE
SUMMARY:Business Dialogue and Dinner in honor of Thai DPM & Foreign Minister Don Pramudwinai
DESCRIPTION:
X-ALT-DESC;FMTTYPE=text/html:
LOCATION:
UID:e.9078.8857
SEQUENCE:3
DTSTAMP:20260421T223030Z
URL:http://memberzone.usasean.org/events/details/business-dialogue-and-dinner-in-honor-of-thai-dpm-foreign-minister-don-pramudwinai-8857
END:VEVENT

END:VCALENDAR
