BEGIN:VCALENDAR
VERSION:2.0
PRODID:-//ChamberMaster//Event Calendar 2.0//EN
METHOD:PUBLISH
X-PUBLISHED-TTL:P3D
REFRESH-INTERVAL:P3D
CALSCALE:GREGORIAN
BEGIN:VEVENT
DTSTART:20130814T183000Z
DTEND:20130814T193000Z
X-MICROSOFT-CDO-ALLDAYEVENT:FALSE
SUMMARY:Briefing with Vietnam Farmers' Union Central Committee
DESCRIPTION:
X-ALT-DESC;FMTTYPE=text/html:
LOCATION:
UID:e.9078.893
SEQUENCE:3
DTSTAMP:20260421T190108Z
URL:http://memberzone.usasean.org/events/details/briefing-with-vietnam-farmers-union-central-committee-08-14-2013-893
END:VEVENT

END:VCALENDAR
