BEGIN:VCALENDAR
VERSION:2.0
PRODID:-//ChamberMaster//Event Calendar 2.0//EN
METHOD:PUBLISH
X-PUBLISHED-TTL:P3D
REFRESH-INTERVAL:P3D
CALSCALE:GREGORIAN
BEGIN:VEVENT
DTSTART:20210908T000000Z
DTEND:20210908T010000Z
X-MICROSOFT-CDO-ALLDAYEVENT:FALSE
SUMMARY:Briefing with US Embassy on US VP Kamala Harris' visit to Singapore
DESCRIPTION:Join us for a sharing by the U.S. Embassy in Singapore on the recent visit by U.S. Vice President Kamala Harris!
X-ALT-DESC;FMTTYPE=text/html:Join us for a sharing by the U.S. Embassy in Singapore on the recent visit by U.S. Vice President Kamala Harris!&nbsp\;
LOCATION:Virtual
UID:e.9078.8558
SEQUENCE:3
DTSTAMP:20260419T142224Z
URL:http://memberzone.usasean.org/events/details/briefing-with-us-embassy-on-us-vp-kamala-harris-visit-to-singapore-8558
END:VEVENT

END:VCALENDAR
