BEGIN:VCALENDAR
VERSION:2.0
PRODID:-//ChamberMaster//Event Calendar 2.0//EN
METHOD:PUBLISH
X-PUBLISHED-TTL:P3D
REFRESH-INTERVAL:P3D
CALSCALE:GREGORIAN
BEGIN:VEVENT
DTSTART:20210804T120000Z
DTEND:20210804T130000Z
X-MICROSOFT-CDO-ALLDAYEVENT:FALSE
SUMMARY:Briefing With U.S. Department of Transportation on ASEAN Senior Transportation Officials Meeting
DESCRIPTION:Briefing with US Department of Transportation
X-ALT-DESC;FMTTYPE=text/html:Briefing with US Department of Transportation
LOCATION:
UID:e.9078.8515
SEQUENCE:3
DTSTAMP:20260419T160328Z
URL:http://memberzone.usasean.org/events/details/briefing-with-u-s-department-of-transportation-on-asean-senior-transportation-officials-meeting-8515
END:VEVENT

END:VCALENDAR
