BEGIN:VCALENDAR
VERSION:2.0
PRODID:-//ChamberMaster//Event Calendar 2.0//EN
METHOD:PUBLISH
X-PUBLISHED-TTL:P3D
REFRESH-INTERVAL:P3D
CALSCALE:GREGORIAN
BEGIN:VEVENT
DTSTART:20210222T020000Z
DTEND:20210222T030000Z
X-MICROSOFT-CDO-ALLDAYEVENT:FALSE
SUMMARY:Briefing with Rosan Roslani\, Chairman of KADIN
DESCRIPTION:A Virtual Briefing with Mr. Rosan Roslani\, Chairman of Kadin (Indonesian Chamber of Commerce)
X-ALT-DESC;FMTTYPE=text/html:<span style="font-size: 13px\;">A Virtual Briefing with Mr. Rosan Roslani\, Chairman of Kadin (Indonesian Chamber of Commerce)</span>
LOCATION:
UID:e.9078.8395
SEQUENCE:3
DTSTAMP:20260420T035146Z
URL:http://memberzone.usasean.org/events/details/briefing-with-rosan-roslani-chairman-of-kadin-8395
END:VEVENT

END:VCALENDAR
