BEGIN:VCALENDAR
VERSION:2.0
PRODID:-//ChamberMaster//Event Calendar 2.0//EN
METHOD:PUBLISH
X-PUBLISHED-TTL:P3D
REFRESH-INTERVAL:P3D
CALSCALE:GREGORIAN
BEGIN:VEVENT
DTSTART;VALUE=DATE:20111018
DTEND;VALUE=DATE:20111019
TRANSP:TRANSPARENT
X-MICROSOFT-CDO-ALLDAYEVENT:TRUE
SUMMARY:Briefing with Patrick Santillo and Darrel Ching\, Singapore - Oct 18 2011
DESCRIPTION:
X-ALT-DESC;FMTTYPE=text/html:
LOCATION:
UID:e.9078.350
SEQUENCE:3
DTSTAMP:20260425T234603Z
URL:http://memberzone.usasean.org/events/details/briefing-with-patrick-santillo-and-darrel-ching-singapore-oct-18-2011-10-18-2011-350
END:VEVENT

END:VCALENDAR
