BEGIN:VCALENDAR
VERSION:2.0
PRODID:-//ChamberMaster//Event Calendar 2.0//EN
METHOD:PUBLISH
X-PUBLISHED-TTL:P3D
REFRESH-INTERVAL:P3D
CALSCALE:GREGORIAN
BEGIN:VEVENT
DTSTART:20131210T123000Z
DTEND:20131210T143000Z
X-MICROSOFT-CDO-ALLDAYEVENT:FALSE
SUMMARY:Briefing with Patricia M. Loui
DESCRIPTION:Please join our briefing with Patricia M. Loui\, a full-time member of Ex -Im Bank's  Board of Directors where she leads the bank's efforts to promote financing of U.S. exports to Asia.
X-ALT-DESC;FMTTYPE=text/html:<span style="font-family:arial\;"><span style="font-size: 16px\;"><span style="background: none repeat scroll 0% 0% white\;">Please join our briefing with Patricia M. Loui\, a full-time member of Ex -Im Bank&rsquo\;s &nbsp\;Board of Directors where she lead<span style="color: rgb(31\, 73\, 125)\;">s</span> the bank&rsquo\;s efforts to promote financing of U.S. exports to Asia. </span></span></span>
LOCATION:AmCham Hall 2/F\, Corinthian Plaza\, Paseo de Roxas Makati City\, Philippine
UID:e.9078.993
SEQUENCE:3
DTSTAMP:20260421T071852Z
URL:http://memberzone.usasean.org/events/details/briefing-with-patricia-m-loui-12-10-2013-993
END:VEVENT

END:VCALENDAR
