BEGIN:VCALENDAR
VERSION:2.0
PRODID:-//ChamberMaster//Event Calendar 2.0//EN
METHOD:PUBLISH
X-PUBLISHED-TTL:P3D
REFRESH-INTERVAL:P3D
CALSCALE:GREGORIAN
BEGIN:VEVENT
DTSTART:20150528T180000Z
DTEND:20150528T190000Z
X-MICROSOFT-CDO-ALLDAYEVENT:FALSE
SUMMARY:Briefing with Myanmar Desk Officers
DESCRIPTION:Briefing with Myanmar Desk Officers from State\, Treasury\, and Commerce
X-ALT-DESC;FMTTYPE=text/html:Briefing with Myanmar Desk Officers from State\, Treasury\, and Commerce
LOCATION:US-ABC Offices 1101 17th St nw Suite 411 Washington DC
UID:e.9078.1569
SEQUENCE:3
DTSTAMP:20260419T131958Z
URL:http://memberzone.usasean.org/events/details/briefing-with-myanmar-desk-officers-05-28-2015-1569
END:VEVENT

END:VCALENDAR
