BEGIN:VCALENDAR
VERSION:2.0
PRODID:-//ChamberMaster//Event Calendar 2.0//EN
METHOD:PUBLISH
X-PUBLISHED-TTL:P3D
REFRESH-INTERVAL:P3D
CALSCALE:GREGORIAN
BEGIN:VEVENT
DTSTART:20130117T140000Z
DTEND:20130117T150000Z
X-MICROSOFT-CDO-ALLDAYEVENT:FALSE
SUMMARY:Briefing with Mike McGee\, Foreign Commercial Service
DESCRIPTION:Briefing with Michael McGee\, Commercial Counselor for Burma\, U.S. Foreign Commercial Service\n\n\n\nMr. McGee is in Washington for the January 14th and 15th TIFA talks and has offered to brief Council members on his work in Myanmar and Thailand.
X-ALT-DESC;FMTTYPE=text/html:Briefing with Michael McGee\, Commercial Counselor for Burma\, U.S. Foreign Commercial Service<br />\n<br />\nMr. McGee is in Washington for the January 14th and 15th TIFA talks and has offered to brief Council members on his work in Myanmar and Thailand. 
LOCATION:US-ASEAN Business Council Offices\, Washington D.C.
UID:e.9078.673
SEQUENCE:3
DTSTAMP:20260422T111238Z
URL:http://memberzone.usasean.org/events/details/briefing-with-mike-mcgee-foreign-commercial-service-01-17-2013-673
END:VEVENT

END:VCALENDAR
