BEGIN:VCALENDAR
VERSION:2.0
PRODID:-//ChamberMaster//Event Calendar 2.0//EN
METHOD:PUBLISH
X-PUBLISHED-TTL:P3D
REFRESH-INTERVAL:P3D
CALSCALE:GREGORIAN
BEGIN:VEVENT
DTSTART:20130801T190000Z
DTEND:20130801T200000Z
X-MICROSOFT-CDO-ALLDAYEVENT:FALSE
SUMMARY:Briefing with Michael Hogge\, Burma Desk Office Department of Commerce
DESCRIPTION:A briefing and discussion with new Department of Commerce Desk officer Michael Hogge
X-ALT-DESC;FMTTYPE=text/html:A briefing and discussion with new Department of Commerce Desk officer Michael Hogge
LOCATION:US-ASEAN Business Council Offices 1101 17th street nw suite 411 Washington D.C.
UID:e.9078.876
SEQUENCE:3
DTSTAMP:20260421T190009Z
URL:http://memberzone.usasean.org/events/details/briefing-with-michael-hogge-burma-desk-office-department-of-commerce-08-01-2013-876
END:VEVENT

END:VCALENDAR
