BEGIN:VCALENDAR
VERSION:2.0
PRODID:-//ChamberMaster//Event Calendar 2.0//EN
METHOD:PUBLISH
X-PUBLISHED-TTL:P3D
REFRESH-INTERVAL:P3D
CALSCALE:GREGORIAN
BEGIN:VEVENT
DTSTART:20210503T120000Z
DTEND:20210503T130000Z
X-MICROSOFT-CDO-ALLDAYEVENT:FALSE
SUMMARY:Briefing with Mark T. Gallogly\, Biden's Climate Change Task Force
DESCRIPTION:
X-ALT-DESC;FMTTYPE=text/html:
LOCATION:
UID:e.9078.8457
SEQUENCE:3
DTSTAMP:20260419T210112Z
URL:http://memberzone.usasean.org/events/details/briefing-with-mark-t-gallogly-biden-s-climate-change-task-force-8457
END:VEVENT

END:VCALENDAR
