BEGIN:VCALENDAR
VERSION:2.0
PRODID:-//ChamberMaster//Event Calendar 2.0//EN
METHOD:PUBLISH
X-PUBLISHED-TTL:P3D
REFRESH-INTERVAL:P3D
CALSCALE:GREGORIAN
BEGIN:VEVENT
DTSTART:20210806T120000Z
DTEND:20210806T130000Z
X-MICROSOFT-CDO-ALLDAYEVENT:FALSE
SUMMARY:Briefing with Dr. Muhamad Chatib Basri\, Chairman of Bank Mandiri and XL Axiata\, Former Indonesia Minister of Finance and Indonesia Investment Coordinating Board (BKPM)
DESCRIPTION:
X-ALT-DESC;FMTTYPE=text/html:
LOCATION:Join Zoom Meeting (Recommended) https://usasean.zoom.us/j/93607850309?pwd=K0FSbVM2SGhNYVRUSGVoTW5DWG5aZz09 We strongly encourage you to join this call using the Zoom app/client by clicking the link above. This enables full functionality and minimal bandwidth issues. Meeting ID: 936 0785 0309 Password: 771902 Other Dial in Options: One tap mobile +622139501721\,\,93607850309# Indonesia Dial by your location +62 21 3950 1721 Indonesia 888 475 4499 US Toll-free +65 3165 1065 Singapore 800 852 6054 Singapore Toll-free Meeting ID: 936 0785 0309 Password: 771902 Find your local number: https://usasean.zoom.us/u/adJSO3AXvi Join by SIP 93607850309@zoomcrc.com Join by H.323 162.255.37.11 (US West) 162.255.36.11 (US East) 213.19.144.110 (Amsterdam Netherlands) 213.244.140.110 (Germany) 103.122.166.55 (Australia Sydney) 103.122.167.55 (Australia Melbourne) 149.137.40.110 (Singapore) 69.174.57.160 (Canada Toronto) 65.39.152.160 (Canada Vancouver) 207.226.132.110 (Japan Tokyo) 149.137.24.110 (Japan Osaka) Meeting ID: 936 0785 0309 Password: 771902 Join by Skype for Business https://usasean.zoom.us/skype/93607850309
UID:e.9078.8535
SEQUENCE:3
DTSTAMP:20260419T160416Z
URL:http://memberzone.usasean.org/events/details/briefing-with-dr-muhamad-chatib-basri-chairman-of-bank-mandiri-and-xl-axiata-former-indonesia-minister-of-finance-and-indonesia-investment-coordinating-board-bkpm-8535
END:VEVENT

END:VCALENDAR
