BEGIN:VCALENDAR
VERSION:2.0
PRODID:-//ChamberMaster//Event Calendar 2.0//EN
METHOD:PUBLISH
X-PUBLISHED-TTL:P3D
REFRESH-INTERVAL:P3D
CALSCALE:GREGORIAN
BEGIN:VEVENT
DTSTART:20130808T121500Z
DTEND:20130808T140000Z
X-MICROSOFT-CDO-ALLDAYEVENT:FALSE
SUMMARY:Briefing with DASD Vikram Singh and Defense Committee Meeting
DESCRIPTION:The Defense & Security Working Group will be hosting Deputy Assistant Secretary of Defense Vikram Singh for a roundtable discussion from 9:00AM-10:00AM at the Council's offices. For a biography of DASD Vikram Singh\, please click here.\n\n\n\nMembers are invited to arrive at 8:15 for a committee meeting on issues relating to the year ahead including a prospective 2013 Defense & Security Business Mission and working group management. \n\n\n\nThe discussion with DASD Singh will shortly be opened to the general membership and Defense & Security Working Group members are encouraged to register ASAP. There is limited seating and registration will be accepted on a first-come-first-serve basis.\n\n\n\nPlease submit any additional topics/issues in advance to Daniel Henderson at dhenderson@usasean.org.
X-ALT-DESC;FMTTYPE=text/html:<span style="font-family:arial\;"><span style="font-size: 16px\;">The Defense &amp\; Security Working Group will be hosting Deputy Assistant Secretary of Defense Vikram Singh for a roundtable discussion from 9:00AM-10:00AM at the Council&#39\;s offices. For a biography of DASD Vikram Singh\, please <a href="http://www.defense.gov/bios/biographydetail.aspx?biographyid=340">click here</a>.<br />\n<br />\nMembers are invited to arrive at 8:15 for a committee meeting on issues relating to the year ahead including a prospective 2013 Defense &amp\; Security Business Mission and working group management.&nbsp\;<br />\n<br />\nThe discussion with DASD Singh will shortly be opened to the general membership and Defense &amp\; Security Working Group members are encouraged to register ASAP. There is limited seating and registration will be accepted on a first-come-first-serve basis.<br />\n<br />\nPlease submit any additional topics/issues in advance to Daniel Henderson at&nbsp\;<a href="mailto:dhenderson@usasean.org">dhenderson@usasean.org</a>. </span></span>
LOCATION:
UID:e.9078.863
SEQUENCE:3
DTSTAMP:20260421T185646Z
URL:http://memberzone.usasean.org/events/details/briefing-with-dasd-vikram-singh-and-defense-committee-meeting-08-08-2013-863
END:VEVENT

END:VCALENDAR
