BEGIN:VCALENDAR
VERSION:2.0
PRODID:-//ChamberMaster//Event Calendar 2.0//EN
METHOD:PUBLISH
X-PUBLISHED-TTL:P3D
REFRESH-INTERVAL:P3D
CALSCALE:GREGORIAN
BEGIN:VEVENT
DTSTART:20130307T140000Z
DTEND:20130307T150000Z
X-MICROSOFT-CDO-ALLDAYEVENT:FALSE
SUMMARY:Briefing with Caterpillar Myanmar Dealer Mr. Khin Maung Win
DESCRIPTION:xxxxx
X-ALT-DESC;FMTTYPE=text/html:xxxxx
LOCATION:
UID:e.9078.720
SEQUENCE:3
DTSTAMP:20260422T075441Z
URL:http://memberzone.usasean.org/events/details/briefing-with-caterpillar-myanmar-dealer-mr-khin-maung-win-03-07-2013-720
END:VEVENT

END:VCALENDAR
