BEGIN:VCALENDAR
VERSION:2.0
PRODID:-//ChamberMaster//Event Calendar 2.0//EN
METHOD:PUBLISH
X-PUBLISHED-TTL:P3D
REFRESH-INTERVAL:P3D
CALSCALE:GREGORIAN
BEGIN:VEVENT
DTSTART;VALUE=DATE:20120522
DTEND;VALUE=DATE:20120523
TRANSP:TRANSPARENT
X-MICROSOFT-CDO-ALLDAYEVENT:TRUE
SUMMARY:Briefing with Americo Tadeu\, May 22\, Jakarta - May 22 2012
DESCRIPTION:
X-ALT-DESC;FMTTYPE=text/html:
LOCATION:
UID:e.9078.348
SEQUENCE:3
DTSTAMP:20260425T021951Z
URL:http://memberzone.usasean.org/events/details/briefing-with-americo-tadeu-may-22-jakarta-may-22-2012-05-22-2012-348
END:VEVENT

END:VCALENDAR
