BEGIN:VCALENDAR
VERSION:2.0
PRODID:-//ChamberMaster//Event Calendar 2.0//EN
METHOD:PUBLISH
X-PUBLISHED-TTL:P3D
REFRESH-INTERVAL:P3D
CALSCALE:GREGORIAN
BEGIN:VEVENT
DTSTART:20210304T140000Z
DTEND:20210304T150000Z
X-MICROSOFT-CDO-ALLDAYEVENT:FALSE
SUMMARY:Briefing with Amb. Serbini Ali
DESCRIPTION:A Briefing with the Ambassador of Brunei Darussalam to the United States\, H.E Dato Serbini Ali\, regarding the ASEAN Chair's proposed 10 Priority Economic Deliverables (PED).
X-ALT-DESC;FMTTYPE=text/html:&nbsp\;A Briefing with the Ambassador of Brunei Darussalam to the United States\, H.E Dato Serbini Ali\, regarding the ASEAN Chair&#39\;s proposed 10 Priority Economic Deliverables (PED).
LOCATION:
UID:e.9078.8398
SEQUENCE:3
DTSTAMP:20260420T015456Z
URL:http://memberzone.usasean.org/events/details/briefing-with-amb-serbini-ali-8398
END:VEVENT

END:VCALENDAR
