BEGIN:VCALENDAR
VERSION:2.0
PRODID:-//ChamberMaster//Event Calendar 2.0//EN
METHOD:PUBLISH
X-PUBLISHED-TTL:P3D
REFRESH-INTERVAL:P3D
CALSCALE:GREGORIAN
BEGIN:VEVENT
DTSTART:20131010T140000Z
DTEND:20131010T150000Z
X-MICROSOFT-CDO-ALLDAYEVENT:FALSE
SUMMARY:Briefing with 2013 Eisenhower Fellows Southeast Asia Program
DESCRIPTION:
X-ALT-DESC;FMTTYPE=text/html:
LOCATION:
UID:e.9078.924
SEQUENCE:3
DTSTAMP:20260421T153931Z
URL:http://memberzone.usasean.org/events/details/briefing-with-2013-eisenhower-fellows-southeast-asia-program-10-10-2013-924
END:VEVENT

END:VCALENDAR
