BEGIN:VCALENDAR
VERSION:2.0
PRODID:-//ChamberMaster//Event Calendar 2.0//EN
METHOD:PUBLISH
X-PUBLISHED-TTL:P3D
REFRESH-INTERVAL:P3D
CALSCALE:GREGORIAN
BEGIN:VEVENT
DTSTART:20210326T013000Z
DTEND:20210326T023000Z
X-MICROSOFT-CDO-ALLDAYEVENT:FALSE
SUMMARY:Briefing on Vietnam MOF Circular on E-commerce and Digital-based Tax
DESCRIPTION:Briefing on Vietnam E-commerce and Digital-based Tax Circular
X-ALT-DESC;FMTTYPE=text/html:Briefing on Vietnam E-commerce and Digital-based Tax Circular
LOCATION:Zoom
UID:e.9078.8434
SEQUENCE:3
DTSTAMP:20260420T000904Z
URL:http://memberzone.usasean.org/events/details/briefing-on-vietnam-mof-circular-on-e-commerce-and-digital-based-tax-8434
END:VEVENT

END:VCALENDAR
