BEGIN:VCALENDAR
VERSION:2.0
PRODID:-//ChamberMaster//Event Calendar 2.0//EN
METHOD:PUBLISH
X-PUBLISHED-TTL:P3D
REFRESH-INTERVAL:P3D
CALSCALE:GREGORIAN
BEGIN:VEVENT
DTSTART:20141022T140000Z
DTEND:20141022T150000Z
X-MICROSOFT-CDO-ALLDAYEVENT:FALSE
SUMMARY:Briefing on U.S.-Vietnam Export Ban
DESCRIPTION:US-Vietnam Security Relations
X-ALT-DESC;FMTTYPE=text/html:US-Vietnam Security Relations
LOCATION:US-ASEAN Business Council Offices
UID:e.9078.1294
SEQUENCE:3
DTSTAMP:20260420T034716Z
URL:http://memberzone.usasean.org/events/details/briefing-on-u-s-vietnam-export-ban-10-22-2014-1294
END:VEVENT

END:VCALENDAR
