BEGIN:VCALENDAR
VERSION:2.0
PRODID:-//ChamberMaster//Event Calendar 2.0//EN
METHOD:PUBLISH
X-PUBLISHED-TTL:P3D
REFRESH-INTERVAL:P3D
CALSCALE:GREGORIAN
BEGIN:VEVENT
DTSTART:20210505T020000Z
DTEND:20210505T030000Z
X-MICROSOFT-CDO-ALLDAYEVENT:FALSE
SUMMARY:Briefing on Malaysia's One Stop Centre and National Investment Aspirations
DESCRIPTION:
X-ALT-DESC;FMTTYPE=text/html:
LOCATION:
UID:e.9078.8452
SEQUENCE:3
DTSTAMP:20260419T210506Z
URL:http://memberzone.usasean.org/events/details/briefing-on-malaysia-s-one-stop-centre-and-national-investment-aspirations-8452
END:VEVENT

END:VCALENDAR
