BEGIN:VCALENDAR
VERSION:2.0
PRODID:-//ChamberMaster//Event Calendar 2.0//EN
METHOD:PUBLISH
X-PUBLISHED-TTL:P3D
REFRESH-INTERVAL:P3D
CALSCALE:GREGORIAN
BEGIN:VEVENT
DTSTART:20210512T013000Z
DTEND:20210512T023000Z
X-MICROSOFT-CDO-ALLDAYEVENT:FALSE
SUMMARY:Briefing from Development Finance Corporation
DESCRIPTION:Briefing from Development Finance Corporation with Maria Goravanchi\, Geoffrey Tan\, and Douglas Midland.\n\n\n\nThe U.S. International Development Finance Corporation (DFC) is America's development bank. DFC partners with the private sector to finance solutions to the most critical challenges facing the developing world today. \n\n\n\nDFC invests across sectors including energy\, healthcare\, critical infrastructure\, and technology.
X-ALT-DESC;FMTTYPE=text/html:Briefing from Development Finance Corporation with Maria Goravanchi\, Geoffrey Tan\, and Douglas Midland.<br />\n<br />\nThe U.S. International Development Finance Corporation (DFC) is America&#39\;s development bank. DFC partners with the private sector to finance solutions to the most critical challenges facing the developing world today.&nbsp\;<br />\n<br />\nDFC invests across sectors including energy\, healthcare\, critical infrastructure\, and technology.&nbsp\;<br />\n<br />\n&nbsp\;
LOCATION:
UID:e.9078.8461
SEQUENCE:3
DTSTAMP:20260419T210120Z
URL:http://memberzone.usasean.org/events/details/briefing-from-development-finance-corporation-8461
END:VEVENT

END:VCALENDAR
