BEGIN:VCALENDAR
VERSION:2.0
PRODID:-//ChamberMaster//Event Calendar 2.0//EN
METHOD:PUBLISH
X-PUBLISHED-TTL:P3D
REFRESH-INTERVAL:P3D
CALSCALE:GREGORIAN
BEGIN:VEVENT
DTSTART:20191122T090000Z
DTEND:20191122T103000Z
X-MICROSOFT-CDO-ALLDAYEVENT:FALSE
SUMMARY:Briefing Discussion with Michael Rose\, Policy Advisor of U.S. Department of Commerce on Personal Data Protection
DESCRIPTION:
X-ALT-DESC;FMTTYPE=text/html:
LOCATION:U.S. Embassy Jakarta Jl. Merdeka Sel. No. 3-5\, Gambir Jakarta Pusat\, Indonesia 10110
UID:e.9078.8085
SEQUENCE:3
DTSTAMP:20260424T202001Z
URL:http://memberzone.usasean.org/events/details/briefing-discussion-with-michael-rose-policy-advisor-of-u-s-department-of-commerce-on-personal-data-protection-8085
END:VEVENT

END:VCALENDAR
