BEGIN:VCALENDAR
VERSION:2.0
PRODID:-//ChamberMaster//Event Calendar 2.0//EN
METHOD:PUBLISH
X-PUBLISHED-TTL:P3D
REFRESH-INTERVAL:P3D
CALSCALE:GREGORIAN
BEGIN:VEVENT
DTSTART:20210325T123000Z
DTEND:20210325T133000Z
X-MICROSOFT-CDO-ALLDAYEVENT:FALSE
SUMMARY:Briefing by Henrietta Levin and Kathryn Paik\, National Security Council
DESCRIPTION:Virtual Briefing on\n\n			the National Security Council's Views on ASEAN\n\n			 \n\n			with \n\n			\n\n			Henrietta Levin\n\n			Director for Southeast Asia and ASEAN Affairs\n\n			&\n\n			Kathryn Paik\n\n			Director for Southeast Asia and the Pacific Islands
X-ALT-DESC;FMTTYPE=text/html:<table align="center" border="0" cellpadding="0" cellspacing="0" style="width:650px\;" width="650">\n	<tbody>\n		<tr>\n			<td style="padding:15.0pt 0in 15.0pt 0in\;"><strong><u><span style="letter-spacing:.75pt\;"><span style="color:#333333\;"><span style="font-family:arial\,sans-serif\;"><span style="font-size:16.0pt\;">Virtual Briefing on</span></span></span></span></u></strong><br />\n			<strong><u><span style="letter-spacing:.75pt\;"><span style="color:#333333\;"><span style="font-family:arial\,sans-serif\;"><span style="font-size:16.0pt\;">the National Security Council&#39\;s Views on ASEAN</span></span></span></span></u></strong><br />\n			&nbsp\;<br />\n			<strong><span style="letter-spacing:.75pt\;"><span style="color:#333333\;"><span style="font-family:arial\,sans-serif\;"><span style="font-size:16.0pt\;">with </span></span></span></span></strong><br />\n			<br />\n			<strong><span style="letter-spacing:.75pt\;"><span style="color:#333333\;"><span style="font-family:arial\,sans-serif\;"><span style="font-size:16.0pt\;">Henrietta Levin<br />\n			Director for Southeast Asia and ASEAN Affairs</span></span></span></span></strong><br />\n			<strong><span style="letter-spacing:.75pt\;"><span style="color:#333333\;"><span style="font-family:arial\,sans-serif\;"><span style="font-size:14.0pt\;">&amp\;</span></span></span></span></strong><br />\n			<strong><span style="letter-spacing:.75pt\;"><span style="color:#333333\;"><span style="font-family:arial\,sans-serif\;"><span style="font-size:16.0pt\;">Kathryn Paik</span></span></span></span></strong><br />\n			<strong><span style="letter-spacing:.75pt\;"><span style="font-family:arial\,sans-serif\;"><span style="font-size:16.0pt\;">Director for Southeast Asia and the Pacific Islands</span></span></span></strong></td>\n		</tr>\n	</tbody>\n</table>\n\n<div style="clear:both\;">&nbsp\;</div>\n
LOCATION:This call will be conducted on Zoom
UID:e.9078.8429
SEQUENCE:3
DTSTAMP:20260420T001555Z
URL:http://memberzone.usasean.org/events/details/briefing-by-henrietta-levin-and-kathryn-paik-national-security-council-8429
END:VEVENT

END:VCALENDAR
