BEGIN:VCALENDAR
VERSION:2.0
PRODID:-//ChamberMaster//Event Calendar 2.0//EN
METHOD:PUBLISH
X-PUBLISHED-TTL:P3D
REFRESH-INTERVAL:P3D
CALSCALE:GREGORIAN
BEGIN:VEVENT
DTSTART:20230420T003000Z
DTEND:20230420T013000Z
X-MICROSOFT-CDO-ALLDAYEVENT:FALSE
SUMMARY:Briefing and Roundtable Discussion with Philippine IPEF Lead Negotiator Assistant Secretary Allan Gepty
DESCRIPTION:In this briefing and roundtable discussion\, we hope for Philippine IPEF Lead Negotiator Assistant Secretary Gepty to meet with our members and share the Philippine government's top priorities in line with the IPEF negotiations and the RCEP ratification. This will be a good opportunity for our members to share and exchange their views with the Philippine government as well as identify opportunities in which they can help the country plug into regional and global supply chains.
X-ALT-DESC;FMTTYPE=text/html:<span style="font-family:arial\,sans-serif\;"><span style="font-size:11pt\;">In this briefing and roundtable discussion\, we hope for Philippine IPEF Lead Negotiator Assistant Secretary Gepty to meet with our members and share the Philippine government&rsquo\;s top priorities in line with the IPEF negotiations and the RCEP ratification. This will be a good opportunity for our members to share and exchange their views with the Philippine government as well as identify opportunities in which they can help the country plug into regional and global supply chains.</span></span>
LOCATION:Virtual
UID:e.9078.8987
SEQUENCE:3
DTSTAMP:20260421T111540Z
URL:http://memberzone.usasean.org/events/details/briefing-and-roundtable-discussion-with-philippine-ipef-lead-negotiator-assistant-secretary-allan-gepty-8987
END:VEVENT

END:VCALENDAR
