BEGIN:VCALENDAR
VERSION:2.0
PRODID:-//ChamberMaster//Event Calendar 2.0//EN
METHOD:PUBLISH
X-PUBLISHED-TTL:P3D
REFRESH-INTERVAL:P3D
CALSCALE:GREGORIAN
BEGIN:VEVENT
DTSTART:20130301T140000Z
DTEND:20130301T160000Z
X-MICROSOFT-CDO-ALLDAYEVENT:FALSE
SUMMARY:Breakfast with Deputy Coordinating Minister Lucky Eko Wuryanto
DESCRIPTION:Breakfast Presentation and Discussion on Indonesia's Infrastructure Development with Deputy Coordinating Minister for Economic Affairs Dr. Lucky Eko Wuryanto.
X-ALT-DESC;FMTTYPE=text/html:Breakfast Presentation and Discussion on Indonesia&#39\;s Infrastructure Development with Deputy Coordinating Minister for Economic Affairs Dr. Lucky Eko Wuryanto.&nbsp\;
LOCATION:Consulate General of Indonesia\, New York
UID:e.9078.713
SEQUENCE:3
DTSTAMP:20260422T075603Z
URL:http://memberzone.usasean.org/events/details/breakfast-with-deputy-coordinating-minister-lucky-eko-wuryanto-03-01-2013-713
END:VEVENT

END:VCALENDAR
