BEGIN:VCALENDAR
VERSION:2.0
PRODID:-//ChamberMaster//Event Calendar 2.0//EN
METHOD:PUBLISH
X-PUBLISHED-TTL:P3D
REFRESH-INTERVAL:P3D
CALSCALE:GREGORIAN
BEGIN:VEVENT
DTSTART:20180116T133000Z
DTEND:20180116T150000Z
X-MICROSOFT-CDO-ALLDAYEVENT:FALSE
SUMMARY:Breakfast Roundtable with the Myanmar Development Institute
DESCRIPTION:The Council is pleased to invite you to a breakfast roundtable featuring a delegation from the Myanmar Development Institute (MDI)\, a leading Myanmar think-tank responsible for advising the Myanmar Government on its economy policy.  The delegation is visiting Washington as part of a USAID-organized study tour. The roundtable is a unique opportunity for members to learn first-hand about the ongoing economic reform efforts in Myanmar\, and to raise any specific concerns/questions.  Please contact Jack Myint at jmyint@usasean.org with any questions.
X-ALT-DESC;FMTTYPE=text/html:<span style="font-family:arial\,sans-serif\;"><span style="font-size:12.0pt\;">The Council is pleased to invite you to a breakfast roundtable featuring a delegation from the Myanmar Development Institute (MDI)\, a leading Myanmar think-tank responsible for advising the Myanmar Government on its economy policy.&nbsp\; The delegation is visiting Washington as part of a USAID-organized study tour. The roundtable is a unique opportunity for members to learn first-hand about the ongoing economic reform efforts in Myanmar\, and to raise any specific concerns/questions.&nbsp\;&nbsp\;Please contact Jack Myint at <a href="mailto:jmyint@usasean.org">jmyint@usasean.org</a> with any questions.</span></span>
LOCATION:US-ASEAN Business Council 1101 17th Street Suite 411 Washington\, DC 20036
UID:e.9078.6444
SEQUENCE:3
DTSTAMP:20260419T143847Z
URL:http://memberzone.usasean.org/events/details/breakfast-roundtable-with-the-myanmar-development-institute-6444
END:VEVENT

END:VCALENDAR
