BEGIN:VCALENDAR
VERSION:2.0
PRODID:-//ChamberMaster//Event Calendar 2.0//EN
METHOD:PUBLISH
X-PUBLISHED-TTL:P3D
REFRESH-INTERVAL:P3D
CALSCALE:GREGORIAN
BEGIN:VEVENT
DTSTART:20150422T113000Z
DTEND:20150422T124500Z
X-MICROSOFT-CDO-ALLDAYEVENT:FALSE
SUMMARY:Breakfast meeting with PDAS Scot Marciel (Bangkok)
DESCRIPTION:Exclusive breakfast roundtable with Principal Deputy Assistant Secretary Scot Marciel\n\n\n\n\n\nHosted by Chevron \,Chair of Thailand Committee
X-ALT-DESC;FMTTYPE=text/html:<br />\nExclusive breakfast roundtable with Principal Deputy Assistant Secretary Scot Marciel<br />\n<br />\n<br />\nHosted by Chevron \,Chair of Thailand Committee
LOCATION:Conrad Hotel\, Bangkok
UID:e.9078.1537
SEQUENCE:3
DTSTAMP:20260419T185727Z
URL:http://memberzone.usasean.org/events/details/breakfast-meeting-with-pdas-scot-marciel-bangkok-04-22-2015-1537
END:VEVENT

END:VCALENDAR
