BEGIN:VCALENDAR
VERSION:2.0
PRODID:-//ChamberMaster//Event Calendar 2.0//EN
METHOD:PUBLISH
X-PUBLISHED-TTL:P3D
REFRESH-INTERVAL:P3D
CALSCALE:GREGORIAN
BEGIN:VEVENT
DTSTART:20140926T113000Z
DTEND:20140926T123000Z
X-MICROSOFT-CDO-ALLDAYEVENT:FALSE
SUMMARY:Breakfast Discussion with Deputy Prime Minister and Foreign Minister Thanasak\, Thailand\, Sep 26\, NYC
DESCRIPTION:Breakfast Discussion with\n\nThanasak Patimaprakorn\n\nDeputy Prime Minister and Foreign Minister
X-ALT-DESC;FMTTYPE=text/html:<span style="font-family: arial\;"><span style="font-size: 16px\;">Breakfast Discussion with<br />\nThanasak Patimaprakorn<br />\nDeputy Prime Minister and Foreign Minister </span></span>
LOCATION:Hotel Plaza Athenee New York 37 E 64th St\, New York\, NY 10065
UID:e.9078.1257
SEQUENCE:3
DTSTAMP:20260420T052926Z
URL:http://memberzone.usasean.org/events/details/breakfast-discussion-with-deputy-prime-minister-and-foreign-minister-thanasak-thailand-sep-26-nyc-09-26-2014-1257
END:VEVENT

END:VCALENDAR
