BEGIN:VCALENDAR
VERSION:2.0
PRODID:-//ChamberMaster//Event Calendar 2.0//EN
METHOD:PUBLISH
X-PUBLISHED-TTL:P3D
REFRESH-INTERVAL:P3D
CALSCALE:GREGORIAN
BEGIN:VEVENT
DTSTART:20130620T120000Z
DTEND:20130620T130000Z
X-MICROSOFT-CDO-ALLDAYEVENT:FALSE
SUMMARY:Breakfast Briefing with S. Chander\, Asian Development Bank
DESCRIPTION:We are pleased to invite you to join us for a briefing and discussion with S. Chander. The discussion will focus on ADB's Regional and Sustainable Development Department (RSDD) initiatives in ASEAN member economies to strengthen the culture of quality\, knowledge\, and innovation for inclusive and sustainable development. ADB leverages its comparative advantages expertise in identifying trends in the region\; capacity for interdisciplinary and integrated approaches\; and ability to blend knowledge and insight with large\, concessional financing to generate and share operationally relevant knowledge.\n\n\n\nAt the regional level\, the TA Strategic Forum defines a focused and coordinated approach to identifying and organizing regional studies. At the country level\, ADB incorporates knowledge management indicators\, activities\, and resources in the country partnership strategies to ensure that knowledge management processes are effectively mobilized in policy dialogues\, and program development and implementation. At the project level\, ADB encourages project teams to emphasize knowledge management-related considerations innovative features of the project\, prospects for impact evaluation\, avenues for learning\, etc when developing loan and technical assistance proposals.\n\n\n\nBIO:\n\n\n\nS. CHANDER\n\nDirector General\n\nRegional and Sustainable Development Department\n\nADB\n\n\n\nMr. Chander took his position as Director General of the Regional and Sustainable Development Department in April 2012. Prior to this\, he was the Principal Director of the ADB's Office of Information Systems and Technology\, and concurrently the Chair of ADB's Energy Community of Practice which provides advice and guidance to ADB's operating departments on policy matters and initiatives in the energy sector. He has been with ADB since 1992 and has worked in the South Asia Department and Private Sector Operations Department during his career.
X-ALT-DESC;FMTTYPE=text/html:We are pleased to invite you to join us for a briefing and discussion with S. Chander. The discussion will focus on ADB&#39\;s Regional and Sustainable Development Department (RSDD) initiatives in ASEAN member economies to strengthen the culture of quality\, knowledge\, and innovation for inclusive and sustainable development. ADB leverages its comparative advantages&mdash\;expertise in identifying trends in the region\; capacity for interdisciplinary and integrated approaches\; and ability to blend knowledge and insight with large\, concessional financing&mdash\;to generate and share operationally relevant knowledge.<br />\n<br />\nAt the regional level\, the TA Strategic Forum defines a focused and coordinated approach to identifying and organizing regional studies. At the country level\, ADB incorporates knowledge management indicators\, activities\, and resources in the country partnership strategies to ensure that knowledge management processes are effectively mobilized in policy dialogues\, and program development and implementation. At the project level\, ADB encourages project teams to emphasize knowledge management-related considerations&mdash\;innovative features of the project\, prospects for impact evaluation\, avenues for learning\, etc&mdash\;when developing loan and technical assistance proposals.<br />\n<br />\nBIO:<br />\n<br />\nS. CHANDER<br />\nDirector General<br />\nRegional and Sustainable Development Department<br />\nADB<br />\n<br />\nMr. Chander took his position as Director General of the Regional and Sustainable Development Department in April 2012. Prior to this\, he was the Principal Director of the ADB&rsquo\;s Office of Information Systems and Technology\, and concurrently the Chair of ADB&rsquo\;s Energy Community of Practice which provides advice and guidance to ADB&rsquo\;s operating departments on policy matters and initiatives in the energy sector. He has been with ADB since 1992 and has worked in the South Asia Department and Private Sector Operations Department during his career.<br />\n
LOCATION:US-ASEAN Business Council 1101 17th St NW\, Suite 411 Washington\, DC
UID:e.9078.808
SEQUENCE:3
DTSTAMP:20260421T222531Z
URL:http://memberzone.usasean.org/events/details/breakfast-briefing-with-s-chander-asian-development-bank-06-20-2013-808
END:VEVENT

END:VCALENDAR
