BEGIN:VCALENDAR
VERSION:2.0
PRODID:-//ChamberMaster//Event Calendar 2.0//EN
METHOD:PUBLISH
X-PUBLISHED-TTL:P3D
REFRESH-INTERVAL:P3D
CALSCALE:GREGORIAN
BEGIN:VEVENT
DTSTART:20140409T123000Z
DTEND:20140409T140000Z
X-MICROSOFT-CDO-ALLDAYEVENT:FALSE
SUMMARY:Breakfast briefing with Assistant Secretary of State Danny Russel
DESCRIPTION:Breakfast briefing with Assistant Secretary of State Danny Russel\n\n\n\nParticipants :           \n\n\n\nAssistant Secretary for East Asia and Pacific Affairs Daniel Russel \n\nAmbassador Kristie Kenney\n\nEconomic Counselor Kristina Kvien\n\nCommercial Counselor Michael McGee\n\nSpecial Assistant to the Assistant Secretary Mike Pignatello\n\nAIG\, Caterpillar\, Chevron\, Citi\, Dow\, Ford\, GE\, Google\,  GSK\, Guardian\, Pfizer\, Philip Morris International
X-ALT-DESC;FMTTYPE=text/html:Breakfast briefing with Assistant Secretary of State Danny Russel<br />\n<br />\nParticipants :&nbsp\;<span style="color:#1F497D\;">&nbsp\; &nbsp\; &nbsp\; &nbsp\; &nbsp\;&nbsp\;</span><br />\n<br />\n<span style="color:#000000\;">Assistant Secretary for East Asia and Pacific Affairs&nbsp\;Daniel&nbsp\;Russel&nbsp\;<br />\nAmbassador Kristie Kenney<br />\nEconomic Counselor&nbsp\;Kristina Kvien<br />\nCommercial Counselor&nbsp\;Michael McGee<br />\nSpecial Assistant to the Assistant Secretary&nbsp\;Mike Pignatello</span><br />\nAIG\, Caterpillar\, Chevron\, Citi\, Dow\, Ford\, GE\, Google\,&nbsp\;&nbsp\;GSK\, Guardian\, Pfizer\, Philip Morris International<br />\n<br />\n&nbsp\;
LOCATION:New York Room III\, Conrad Hotel\, Wireless Road\, Bangkok
UID:e.9078.1110
SEQUENCE:3
DTSTAMP:20260420T153139Z
URL:http://memberzone.usasean.org/events/details/breakfast-briefing-with-assistant-secretary-of-state-danny-russel-04-09-2014-1110
END:VEVENT

END:VCALENDAR
