BEGIN:VCALENDAR
VERSION:2.0
PRODID:-//ChamberMaster//Event Calendar 2.0//EN
METHOD:PUBLISH
X-PUBLISHED-TTL:P3D
REFRESH-INTERVAL:P3D
CALSCALE:GREGORIAN
BEGIN:VEVENT
DTSTART;VALUE=DATE:20120403
DTEND;VALUE=DATE:20120404
TRANSP:TRANSPARENT
X-MICROSOFT-CDO-ALLDAYEVENT:TRUE
SUMMARY:Breakfast Briefing with Ambassador Hans. G. Klemm U.S Senior Official to APEC - Apr 3 2012
DESCRIPTION:
X-ALT-DESC;FMTTYPE=text/html:
LOCATION:
UID:e.9078.338
SEQUENCE:3
DTSTAMP:20260425T034610Z
URL:http://memberzone.usasean.org/events/details/breakfast-briefing-with-ambassador-hans-g-klemm-u-s-senior-official-to-apec-apr-3-2012-04-03-2012-338
END:VEVENT

END:VCALENDAR
