BEGIN:VCALENDAR
VERSION:2.0
PRODID:-//ChamberMaster//Event Calendar 2.0//EN
METHOD:PUBLISH
X-PUBLISHED-TTL:P3D
REFRESH-INTERVAL:P3D
CALSCALE:GREGORIAN
BEGIN:VEVENT
DTSTART:20200220T133000Z
DTEND:20200220T223000Z
X-MICROSOFT-CDO-ALLDAYEVENT:FALSE
SUMMARY:Break the ceiling touch the sky® USA Edition
DESCRIPTION:The 2019 USA EDITION of Break the ceiling touch the sky  - the success and leadership summit for women\, to be held in New York on Feb 20\, 2020  features over 30 inspirational leaders from the worlds best organizations  sharing with delegates their best practices for success\, diversity & inclusion and leadership. 250 of the  senior leaders are likely to attend. The US-ASEAN Business Council  is an INDUSTRY PARTNER to the summit and members are eligible for the INDUSTRY/NETWORK PARTNER preferential rates for the summit.  \n\n \n\nBreak the ceiling touch the sky - the success and leadership summit for women   \, from House of Rose Professional (HORP) is the worlds fastest growing forum for women in leadership and male champions for diversity enabling leaders from around the world to learn\, network and achieve via editions in the USA\, India\, Middle East\, ANZ\, Singapore\, China and Europe in 2020.\n\n\n\nIf you are a leader who wants to learn from the world's most successful Companies and leaders\, come to this summit and accelerate your own success and that of your team. Registration\, early bird delegate passes and corporate tables only at  \n\nhttps://houseofroseprofessional.com/btctts-world-tour-2020/usa/
X-ALT-DESC;FMTTYPE=text/html:<p class="xmsonormal"><span style="font-family:arial\;"><span style="font-size: 10.5pt\; color: rgb(102\, 102\, 102)\; background: white\;">The 2019 USA EDITION of Break the ceiling touch the sky&reg\; - the success and leadership summit for women\, to be held in New York on Feb 20\, 2020 &nbsp\;features over 30 inspirational leaders from the worlds best organizations &nbsp\;sharing with delegates their best practices for success\, diversity &amp\; inclusion and leadership. 250 of the &nbsp\;senior leaders are likely to attend.&nbsp\;<b>The US-ASEAN Business Council&nbsp\;</b></span><strong><span style="font-size: 10.5pt\; color: rgb(102\, 102\, 102)\;">&nbsp\;is an INDUSTRY PARTNER to the summit and members are eligible for the INDUSTRY/NETWORK PARTNER preferential rates for the summit.</span></strong><span style="font-size: 10.5pt\; color: rgb(102\, 102\, 102)\; background: white\;">&nbsp\;</span> </span><o:p></o:p></p>\n\n<p class="xmsonormal"><span style="font-family:arial\;">&nbsp\;</span><o:p></o:p></p>\n\n<p class="xmsonormal"><span style="font-family:arial\;"><b><span style="font-size: 10.5pt\; color: rgb(102\, 102\, 102)\; background: white\;">Break the ceiling touch the sky - the success and leadership summit for women &reg\;</span></b><span style="font-size: 10.5pt\; color: rgb(102\, 102\, 102)\; background: white\;"> \, from House of Rose Professional (HORP) is the worlds fastest growing forum for women in leadership and male champions for diversity enabling leaders from around the world to learn\, network and achieve via editions in the USA\, India\, Middle East\, ANZ\, Singapore\, China and Europe in 2020.</span></span><o:p></o:p></p>\n\n<p class="xmsonormal"><br />\n<span style="font-family:arial\;"><span style="font-size: 10.5pt\; color: rgb(102\, 102\, 102)\;"><span style="background:white">If you are a leader who wants to learn from the world&#39\;s most successful Companies and leaders\, come to this summit and accelerate your own success and that of your team. Registration\, early bird delegate passes and corporate tables only at&nbsp\;</span></span> </span><o:p></o:p></p>\n\n<p class="xmsonormal"><span style="font-family:arial\;"><a href="https://protect-us.mimecast.com/s/jkrbCo2mNGiPLxZSzz3Cw">https://houseofroseprofessional.com/btctts-world-tour-2020/usa/</a></span> <o:p></o:p></p>\n
LOCATION:Crowne Plaza\, New York\, USA.
UID:e.9078.8071
SEQUENCE:3
DTSTAMP:20260421T133953Z
URL:http://memberzone.usasean.org/events/details/break-the-ceiling-touch-the-sky-usa-edition-8071
END:VEVENT

END:VCALENDAR
