BEGIN:VCALENDAR
VERSION:2.0
PRODID:-//ChamberMaster//Event Calendar 2.0//EN
METHOD:PUBLISH
X-PUBLISHED-TTL:P3D
REFRESH-INTERVAL:P3D
CALSCALE:GREGORIAN
BEGIN:VEVENT
DTSTART:20211207T010000Z
DTEND:20211207T020000Z
X-MICROSOFT-CDO-ALLDAYEVENT:FALSE
SUMMARY:Bounce Forward Report Launch
DESCRIPTION:US-ABC is proud to launch our latest publication\, the Bounce Forward Report\, as part of our COVID-19 Economic Recovery Task Force. Throughout the pandemic\, US companies have shared valuable information\, best practices\, and expertise to help governments respond and recover from COVID-19. This report\, jointly developed by US-ABC and KPMG\, details examples of the ongoing partnerships and support provided to ASEAN Member States\, and further provides recommendations to enable a sustainable economic recovery. \n\n \n\nIn addition to solutions and innovations provided by US companies\, the report outlines four key initiatives to help ASEAN governments respond and recover from the pandemic   (1) Vaccine Preparedness Exercise (2) Building Vaccine Confidence\, (3) Travel Reopening Roadshow Series\, and (4) ASEAN SME Program.\n\n \n\nThe launch event will feature a panel discussion on the report themes of Improving Health Outcomes\, Restoring Confidence in the Consumer Economy\, and Recovering Sustainably with Task Force members: 3M\, MSD\, Meta\, and Chevron.
X-ALT-DESC;FMTTYPE=text/html:<p style="text-align:justify\;text-justify:inter-ideograph\;&#10\;line-height:150%"><span lang="EN-US" style="font-size:12.0pt\;line-height:150%\;&#10\;font-family:&quot\;Arial&quot\;\,sans-serif\;mso-ansi-language:EN-US">US-ABC is proud to launch our latest publication\, the <i>Bounce Forward Report\, </i>as part of our COVID-19 Economic Recovery Task Force. Throughout the pandemic\, US companies have shared valuable information\, best practices\, and expertise to help governments respond and recover from COVID-19. This report\, jointly developed by US-ABC and KPMG\, details examples of the ongoing partnerships and support provided to ASEAN Member States\, and further provides recommendations to enable a sustainable economic recovery. </span></p>\n\n<p style="text-align:justify\;text-justify:inter-ideograph\;&#10\;line-height:150%"><span lang="EN-US" style="font-size:12.0pt\;line-height:150%\;&#10\;font-family:&quot\;Arial&quot\;\,sans-serif\;mso-ansi-language:EN-US">&nbsp\;</span></p>\n\n<p style="text-align:justify\;text-justify:inter-ideograph\;&#10\;line-height:150%"><span lang="EN-US" style="font-size:12.0pt\;line-height:150%\;&#10\;font-family:&quot\;Arial&quot\;\,sans-serif\;mso-ansi-language:EN-US">In addition to solutions and innovations provided by US companies\, the report outlines four key initiatives to help ASEAN governments respond and recover from the pandemic &ndash\; (1) <i>Vaccine Preparedness Exercise</i> (2) <i>Building Vaccine Confidence</i>\, (3) <i>Travel Reopening Roadshow Series</i>\, and (4) <i>ASEAN SME Program</i>.</span></p>\n\n<p style="text-align:justify\;text-justify:inter-ideograph\;&#10\;line-height:150%"><span lang="EN-US" style="font-size:12.0pt\;line-height:150%\;&#10\;font-family:&quot\;Arial&quot\;\,sans-serif\;mso-ansi-language:EN-US">&nbsp\;</span></p>\n\n<p style="text-align:justify\;text-justify:inter-ideograph\;&#10\;line-height:150%"><span lang="EN-US" style="font-size:12.0pt\;line-height:150%\;&#10\;font-family:&quot\;Arial&quot\;\,sans-serif\;mso-ansi-language:EN-US">The launch event will feature a panel discussion on the report themes of Improving Health Outcomes\, Restoring Confidence in the Consumer Economy\, and Recovering Sustainably with Task Force members: 3M\, MSD\, Meta\, and Chevron. </span></p>\n
LOCATION:Virtual\, Zoom
UID:e.9078.8659
SEQUENCE:3
DTSTAMP:20260423T014017Z
URL:http://memberzone.usasean.org/events/details/bounce-forward-report-launch-8659
END:VEVENT

END:VCALENDAR
