BEGIN:VCALENDAR
VERSION:2.0
PRODID:-//ChamberMaster//Event Calendar 2.0//EN
METHOD:PUBLISH
X-PUBLISHED-TTL:P3D
REFRESH-INTERVAL:P3D
CALSCALE:GREGORIAN
BEGIN:VEVENT
DTSTART;VALUE=DATE:20131029
DTEND;VALUE=DATE:20131030
TRANSP:TRANSPARENT
X-MICROSOFT-CDO-ALLDAYEVENT:TRUE
SUMMARY:Board of Directors Meeting (Hanoi\, Vietnam)
DESCRIPTION:The Board of Directors meeting will be split into  five sessions:\n\n\n\nBreakfast\n\n7:30am-8:30am\n\nSpeaker: TBD\n\n\n\nOfficial Board of Directors Meeting\n\n8:45am-9:30am\n\nChaired by Evan Greenberg\, Chairman and CEO of ACE Limited\n\nChairman\, US-ASEAN Business Council\n\n\n\nOperating Environment in ASEAN\n\n9:45am - 10:15am\n\n\n\nStrategy Session\n\n10:20am-11:15am\n\nParticipants TBD\n\n\n\nAmbassador Briefing\n\n11:20am-12:30pm\n\nSpeaker: TBD\n\n\n\nLunch\n\n12:30pm-2:00pm\n\nKeynote Address: TBD\n\n\n\nA call-in option will be available. Please check the 'call-in' option in the registration form. Those present in the region are encouraged to attend in person.
X-ALT-DESC;FMTTYPE=text/html:<strong style="text-align: justify\; line-height: 26.66px\; font-family: arial\, helvetica\, sans-serif\; font-size: 15.55px\;">The Board of Directors meeting will be split into&nbsp\; five sessions:</strong><br style="text-align: justify\; line-height: 26.66px\; font-family: arial\, helvetica\, sans-serif\; font-size: 15.55px\;" />\n<br style="text-align: justify\; line-height: 26.66px\; font-family: arial\, helvetica\, sans-serif\; font-size: 15.55px\;" />\n<strong style="text-align: justify\; line-height: 26.66px\; font-family: arial\, helvetica\, sans-serif\; font-size: 15.55px\;">Breakfast</strong><br style="text-align: justify\; line-height: 26.66px\; font-family: arial\, helvetica\, sans-serif\; font-size: 15.55px\;" />\n<span style="text-align: justify\; line-height: 26.66px\; font-family: arial\, helvetica\, sans-serif\; font-size: 15.55px\;">7:30am-8:30am</span><br style="text-align: justify\; line-height: 26.66px\; font-family: arial\, helvetica\, sans-serif\; font-size: 15.55px\;" />\n<em style="text-align: justify\; line-height: 26.66px\; font-family: arial\, helvetica\, sans-serif\; font-size: 15.55px\;">Speaker: TBD</em><br style="text-align: justify\; line-height: 26.66px\; font-family: arial\, helvetica\, sans-serif\; font-size: 15.55px\;" />\n<br style="text-align: justify\; line-height: 26.66px\; font-family: arial\, helvetica\, sans-serif\; font-size: 15.55px\;" />\n<strong style="text-align: justify\; line-height: 26.66px\; font-family: arial\, helvetica\, sans-serif\; font-size: 15.55px\;">Official Board of Directors Meeting</strong><br style="text-align: justify\; line-height: 26.66px\; font-family: arial\, helvetica\, sans-serif\; font-size: 15.55px\;" />\n<span style="text-align: justify\; line-height: 26.66px\; font-family: arial\, helvetica\, sans-serif\; font-size: 15.55px\;">8:45am-9:30am</span><br style="text-align: justify\; line-height: 26.66px\; font-family: arial\, helvetica\, sans-serif\; font-size: 15.55px\;" />\n<em style="text-align: justify\; line-height: 26.66px\; font-family: arial\, helvetica\, sans-serif\; font-size: 15.55px\;">Chaired by Evan Greenberg\, Chairman and CEO of ACE Limited<br />\nChairman\, US-ASEAN Business Council</em><br style="text-align: justify\; line-height: 26.66px\; font-family: arial\, helvetica\, sans-serif\; font-size: 15.55px\;" />\n<br style="text-align: justify\; line-height: 26.66px\; font-family: arial\, helvetica\, sans-serif\; font-size: 15.55px\;" />\n<strong style="text-align: justify\; line-height: 26.66px\; font-family: arial\, helvetica\, sans-serif\; font-size: 15.55px\;">Operating Environment in ASEAN</strong><br style="text-align: justify\; line-height: 26.66px\; font-family: arial\, helvetica\, sans-serif\; font-size: 15.55px\;" />\n<span style="text-align: justify\; line-height: 26.66px\; font-family: arial\, helvetica\, sans-serif\; font-size: 15.55px\;">9:45am - 10:15am</span><br style="text-align: justify\; line-height: 26.66px\; font-family: arial\, helvetica\, sans-serif\; font-size: 15.55px\;" />\n<br style="text-align: justify\; line-height: 26.66px\; font-family: arial\, helvetica\, sans-serif\; font-size: 15.55px\;" />\n<strong style="text-align: justify\; line-height: 26.66px\; font-family: arial\, helvetica\, sans-serif\; font-size: 15.55px\;">Strategy Session</strong><br style="text-align: justify\; line-height: 26.66px\; font-family: arial\, helvetica\, sans-serif\; font-size: 15.55px\;" />\n<span style="text-align: justify\; line-height: 26.66px\; font-family: arial\, helvetica\, sans-serif\; font-size: 15.55px\;">10:20am-11:15am</span><br style="text-align: justify\; line-height: 26.66px\; font-family: arial\, helvetica\, sans-serif\; font-size: 15.55px\;" />\n<em style="text-align: justify\; line-height: 26.66px\; font-family: arial\, helvetica\, sans-serif\; font-size: 15.55px\;">Participants TBD</em><br style="text-align: justify\; line-height: 26.66px\; font-family: arial\, helvetica\, sans-serif\; font-size: 15.55px\;" />\n<br style="text-align: justify\; line-height: 26.66px\; font-family: arial\, helvetica\, sans-serif\; font-size: 15.55px\;" />\n<strong style="text-align: justify\; line-height: 26.66px\; font-family: arial\, helvetica\, sans-serif\; font-size: 15.55px\;">Ambassador Briefing</strong><br style="text-align: justify\; line-height: 26.66px\; font-family: arial\, helvetica\, sans-serif\; font-size: 15.55px\;" />\n<span style="text-align: justify\; line-height: 26.66px\; font-family: arial\, helvetica\, sans-serif\; font-size: 15.55px\;">11:20am-12:30pm</span><br style="text-align: justify\; line-height: 26.66px\; font-family: arial\, helvetica\, sans-serif\; font-size: 15.55px\;" />\n<em style="text-align: justify\; line-height: 26.66px\; font-family: arial\, helvetica\, sans-serif\; font-size: 15.55px\;">Speaker: TBD</em><br style="text-align: justify\; line-height: 26.66px\; font-family: arial\, helvetica\, sans-serif\; font-size: 15.55px\;" />\n<br style="text-align: justify\; line-height: 26.66px\; font-family: arial\, helvetica\, sans-serif\; font-size: 15.55px\;" />\n<strong style="text-align: justify\; line-height: 26.66px\; font-family: arial\, helvetica\, sans-serif\; font-size: 15.55px\;">Lunch</strong><br style="text-align: justify\; line-height: 26.66px\; font-family: arial\, helvetica\, sans-serif\; font-size: 15.55px\;" />\n<span style="text-align: justify\; line-height: 26.66px\; font-family: arial\, helvetica\, sans-serif\; font-size: 15.55px\;">12:30pm-2:00pm</span><br style="text-align: justify\; line-height: 26.66px\; font-family: arial\, helvetica\, sans-serif\; font-size: 15.55px\;" />\n<em style="text-align: justify\; line-height: 26.66px\; font-family: arial\, helvetica\, sans-serif\; font-size: 15.55px\;">Keynote Address: TBD</em><br />\n<br />\n<strong><span style="font-family: arial\,sans-serif\;"><span style="font-size: 12pt\;">A call-in option will be available. Please check the &#39\;call-in&#39\; option in the registration form. Those present in the region are encouraged to attend in person.</span></span></strong><br />\n<br />\n
LOCATION:Hanoi\, Vietnam TBD (Call-in Available)
UID:e.9078.852
SEQUENCE:3
DTSTAMP:20260421T124027Z
URL:http://memberzone.usasean.org/events/details/board-of-directors-meeting-hanoi-vietnam-10-29-2013-852
END:VEVENT

END:VCALENDAR
