BEGIN:VCALENDAR
VERSION:2.0
PRODID:-//ChamberMaster//Event Calendar 2.0//EN
METHOD:PUBLISH
X-PUBLISHED-TTL:P3D
REFRESH-INTERVAL:P3D
CALSCALE:GREGORIAN
BEGIN:VEVENT
DTSTART:20130606T113000Z
DTEND:20130606T180000Z
X-MICROSOFT-CDO-ALLDAYEVENT:FALSE
SUMMARY:Board of Directors Meeting
DESCRIPTION:The Board of Directors meeting will be split into four sessions: \n	\n		\n\n		Breakfast\n\n		7:30am-8:30am\n\n		Speaker: Senior USG Official TBD\n\n		\n\n		Official Board of Directors Meeting\n\n		8:45am-10:00am\n\n		Chaired by Evan Greenberg\, Chairman and CEO of ACE Limited\n\n		Chairman\, US-ASEAN Business Council\n\n		\n\n		Strategy Session\n\n		10:15am-11:15am\n\n		To include a think-tank panel\n\n		 \n	\n		Ambassador Briefing\n	\n		11:30am-12:15pm\n\n		Speaker: H.E. Dr. Dino Patti Djalal\, Ambassador of the Republic of Indonesia (Invited)\n	\n		\n\n		Lunch\n\n		12:30pm-2:00pm\n\n		Keynote Address: Michael Froman\, Deputy Assistant to the President (Invited)\n	\n		\n\n		\n\n		\n\n		\n\n		A call-in option will be available\, please check the 'call-in' option in the registration. Those present in Washington\, D.C. are encouraged to attend in person.
X-ALT-DESC;FMTTYPE=text/html:<div id="email-container" style="text-align: center\;">\n	<div style="text-align: left\;">\n		&nbsp\;</div>\n	<div style="text-align: left\; line-height: 24px\; font-family: arial\, helvetica\, sans-serif\; font-size: 16px\;">\n		The Board of Directors meeting will be split into four sessions:&nbsp\;</div>\n	<div style="text-align: left\; line-height: 24px\; font-family: arial\, helvetica\, sans-serif\; font-size: 16px\;">\n		<br />\n		<strong>Breakfast</strong><br />\n		7:30am-8:30am<br />\n		<em>Speaker: Senior USG Official TBD</em><br />\n		<br />\n		<strong>Official Board of Directors Meeting</strong><br />\n		<span style="line-height: 1.5\; font-size: 12pt\;">8:45am-10:00am<br />\n		<em>Chaired by Evan Greenberg\, Chairman and CEO of ACE Limited</em><br />\n		<em>Chairman\, US-ASEAN Business Council</em><br />\n		<br />\n		<strong>Strategy Session</strong><br />\n		10:15am-11:15am<br />\n		<em>To include a think-tank panel</em></span><br />\n		&nbsp\;</div>\n	<div style="text-align: left\; line-height: 24px\; font-family: arial\, helvetica\, sans-serif\; font-size: 16px\;">\n		<strong style="line-height: 1.5\; font-size: 12pt\;">Ambassador Briefing</strong></div>\n	<div style="text-align: left\; line-height: 24px\; font-family: arial\, helvetica\, sans-serif\; font-size: 16px\;">\n		11:30am-12:15pm<br />\n		<em>Speaker: H.E. Dr. Dino Patti&nbsp\;Djalal\, Ambassador&nbsp\;of the Republic of Indonesia&nbsp\;(Invited)</em></div>\n	<div style="text-align: left\; line-height: 24px\; font-family: arial\, helvetica\, sans-serif\; font-size: 16px\;">\n		<br />\n		<strong>Lunch</strong><br />\n		12:30pm-2:00pm<br />\n		<em>Keynote Address: Michael&nbsp\;Froman\, Deputy Assistant to the President&nbsp\;(Invited)</em></div>\n	<div style="text-align: left\; line-height: 24px\; font-family: arial\, helvetica\, sans-serif\; font-size: 16px\;">\n		<br />\n		<br />\n		<br />\n		<br />\n		<strong style="line-height: 1.5\; font-size: 12pt\;">A call-in option will be available\, please check the &#39\;call-in&#39\; option in the registration. Those present in Washington\, D.C. are encouraged to attend in person.</strong></div>\n</div>\n<br />\n
LOCATION:Mandarin Oriental Washington\, D.C.
UID:e.9078.765
SEQUENCE:3
DTSTAMP:20260421T222852Z
URL:http://memberzone.usasean.org/events/details/board-of-directors-meeting-06-06-2013-765
END:VEVENT

END:VCALENDAR
