BEGIN:VCALENDAR
VERSION:2.0
PRODID:-//ChamberMaster//Event Calendar 2.0//EN
METHOD:PUBLISH
X-PUBLISHED-TTL:P3D
REFRESH-INTERVAL:P3D
CALSCALE:GREGORIAN
BEGIN:VEVENT
DTSTART:20220715T033000Z
DTEND:20220715T043000Z
X-MICROSOFT-CDO-ALLDAYEVENT:FALSE
SUMMARY:Basel Convention Briefing with DSG Satvinder Singh of ASEC for AEC
DESCRIPTION:
X-ALT-DESC;FMTTYPE=text/html:
LOCATION:Virtual
UID:e.9078.8820
SEQUENCE:3
DTSTAMP:20260422T014731Z
URL:http://memberzone.usasean.org/events/details/basel-convention-briefing-with-dsg-satvinder-singh-of-asec-for-aec-8820
END:VEVENT

END:VCALENDAR
