BEGIN:VCALENDAR
VERSION:2.0
PRODID:-//ChamberMaster//Event Calendar 2.0//EN
METHOD:PUBLISH
X-PUBLISHED-TTL:P3D
REFRESH-INTERVAL:P3D
CALSCALE:GREGORIAN
BEGIN:VEVENT
DTSTART:20210219T010000Z
DTEND:20210219T020000Z
X-MICROSOFT-CDO-ALLDAYEVENT:FALSE
SUMMARY:Basel Convention Advocacy Efforts in Malaysia
DESCRIPTION:
X-ALT-DESC;FMTTYPE=text/html:
LOCATION:
UID:e.9078.8394
SEQUENCE:3
DTSTAMP:20260420T020502Z
URL:http://memberzone.usasean.org/events/details/basel-convention-advocacy-efforts-in-malaysia-8394
END:VEVENT

END:VCALENDAR
