BEGIN:VCALENDAR
VERSION:2.0
PRODID:-//ChamberMaster//Event Calendar 2.0//EN
METHOD:PUBLISH
X-PUBLISHED-TTL:P3D
REFRESH-INTERVAL:P3D
CALSCALE:GREGORIAN
BEGIN:VEVENT
DTSTART:20190408T170000Z
DTEND:20190408T223000Z
X-MICROSOFT-CDO-ALLDAYEVENT:FALSE
SUMMARY:ASEAN-US Digital Policy Consultative Forum
DESCRIPTION:The Council is pleased to invite members to sponsor the first Forum of the 2019 ASEAN-US Digital Policy Consultative Forum ("DPCF")\, to be held on April 8 in the Philippines. This is a continuation of the ASEAN-US Digital Policy Consultative Forum first launched in 2018.\n\n\n\nThe first DPCF of 2019 will be held alongside the ASEAN TELSOM-ATRC Leaders' Retreat from April 8-10\, hosted by the Philippines. It will be the first part of a three-part series held alongside each of the TELSOM-ATRC meetings of 2019. The DPCF across 2019 will focus on strengthening digital data governance in ASEAN. The 1st DPCF in the Philippines will focus specifically on enabling the growth of the data ecosystem in ASEAN\, specifically by creating an attractive environment for increased investment in this ecosystem.\n\n\n\nThe DPCF will serve as a collaborative platform for policymakers and stakeholders to examine and exchange views on challenges to creating an enabling environment\, and what policy approaches and solutions the public and private sector can collaborate on to address these challenges and grow ASEAN's data ecosystem. \n\n \n\nAround 50 participants from ASEAN TELSOM   ATRC\, industry representatives and subject matters experts such as academic\, think-tanks\, trade associations\, and others are expected to attend the Forum.
X-ALT-DESC;FMTTYPE=text/html:<span style="font-family:arial\,sans-serif\;">The Council is pleased to invite members to sponsor the first Forum of the 2019 ASEAN-US Digital Policy Consultative Forum (&ldquo\;DPCF&rdquo\;)\, to be held on April 8 in the Philippines. This is a continuation of the ASEAN-US Digital Policy Consultative Forum first launched in 2018.<br />\n<br />\nThe first DPCF of 2019 will be held alongside the ASEAN TELSOM-ATRC Leaders&rsquo\; Retreat from April 8-10\, hosted by the Philippines. It will be the first part of a three-part series held alongside each of the TELSOM-ATRC meetings of 2019. The DPCF across 2019 will focus on strengthening digital data governance in ASEAN.&nbsp\;The 1st DPCF in the Philippines will focus specifically on enabling the growth of the data ecosystem in ASEAN\, specifically by creating an attractive environment for increased investment in this ecosystem.<br />\n<br />\nThe DPCF will serve as a collaborative platform for policymakers and stakeholders to examine and exchange views on </span><span style="font-family:arial\,sans-serif\;">challenges to creating an enabling environment\, and what policy approaches and solutions the public and private sector can collaborate on to address these challenges and grow ASEAN&rsquo\;s data ecosystem. </span><br />\n&nbsp\;<br />\n<span style="font-family:arial\,sans-serif\;">Around 50 participants from ASEAN TELSOM &ndash\; ATRC\, industry representatives and subject matters experts such as academic\, think-tanks\, trade associations\, and others are expected to attend the Forum.</span><br />\n&nbsp\;
LOCATION:Makati Diamond Residences Manila\, Philippines
UID:e.9078.7794
SEQUENCE:3
DTSTAMP:20260425T234547Z
URL:http://memberzone.usasean.org/events/details/asean-us-digital-policy-consultative-forum-7794
END:VEVENT

END:VCALENDAR
