BEGIN:VCALENDAR
VERSION:2.0
PRODID:-//ChamberMaster//Event Calendar 2.0//EN
METHOD:PUBLISH
X-PUBLISHED-TTL:P3D
REFRESH-INTERVAL:P3D
CALSCALE:GREGORIAN
BEGIN:VEVENT
DTSTART:20210614T013000Z
DTEND:20210614T043000Z
X-MICROSOFT-CDO-ALLDAYEVENT:FALSE
SUMMARY:ASEAN-U.S. Digital Policy Consultative Forum 1 - Data Governance
DESCRIPTION:The Council is pleased to invite you to the ASEAN-US Digital Policy Consultative Forum Session 1 - Data Governance. The DPCF aims to bring together key stakeholders from different industry sectors in both the public and private sector to address cross-cutting digital economy issues.
X-ALT-DESC;FMTTYPE=text/html:The Council is pleased to invite you to the ASEAN-US Digital Policy Consultative Forum Session 1 - Data Governance. The DPCF aims to bring together key stakeholders from different industry sectors in both the public and private sector to address cross-cutting digital economy issues.&nbsp\;
LOCATION:Virtual
UID:e.9078.8475
SEQUENCE:3
DTSTAMP:20260419T192008Z
URL:http://memberzone.usasean.org/events/details/asean-u-s-digital-policy-consultative-forum-1-data-governance-8475
END:VEVENT

END:VCALENDAR
