BEGIN:VCALENDAR
VERSION:2.0
PRODID:-//ChamberMaster//Event Calendar 2.0//EN
METHOD:PUBLISH
X-PUBLISHED-TTL:P3D
REFRESH-INTERVAL:P3D
CALSCALE:GREGORIAN
BEGIN:VEVENT
DTSTART;VALUE=DATE:20150310
DTEND;VALUE=DATE:20150311
TRANSP:TRANSPARENT
X-MICROSOFT-CDO-ALLDAYEVENT:TRUE
SUMMARY:ASEAN SME Workshop in Cebu\, Philippines
DESCRIPTION:The Council\, through the US-ASEAN Business Alliance for Competitive SMEs\, is organizing a workshop on Good Business Practices for SME's Market Competitiveness in Cebu\, the Philippines\, on March 10\, 2015.
X-ALT-DESC;FMTTYPE=text/html:<span style="font-family: arial\;"><span style="font-size: 12px\;"><span style="font-size: 14px\;">The Council\, through the US-ASEAN Business Alliance for Competitive SMEs\, is organizing a workshop on Good Business Practices for SME&rsquo\;s Market Competitiveness in Cebu\, the Philippines\, on March 10\, 2015. </span></span></span>
LOCATION:Cebu\, the Philippines
UID:e.9078.1483
SEQUENCE:3
DTSTAMP:20260419T185438Z
URL:http://memberzone.usasean.org/events/details/asean-sme-workshop-in-cebu-philippines-03-10-2015-1483
END:VEVENT

END:VCALENDAR
