BEGIN:VCALENDAR
VERSION:2.0
PRODID:-//ChamberMaster//Event Calendar 2.0//EN
METHOD:PUBLISH
X-PUBLISHED-TTL:P3D
REFRESH-INTERVAL:P3D
CALSCALE:GREGORIAN
BEGIN:VEVENT
DTSTART;VALUE=DATE:20150130
DTEND;VALUE=DATE:20150131
TRANSP:TRANSPARENT
X-MICROSOFT-CDO-ALLDAYEVENT:TRUE
SUMMARY:ASEAN SME Workshop in Cambodia
DESCRIPTION:The Council\, through the US-ASEAN Business Alliance for Competitive SMEs\, is organizing a workshop on Good Business Practices for Improved Market Competitiveness in Phnom Penh\, Cambodia\, January 30\, 2015. \n\n \n\nThe main objective of the workshop is to transfer broad-based and basic entry-level information\, knowledge and skills from MNCs to Cambodian SMEs on various good business\, financial and legal practices and solutions in enhancing competiveness.  These practices and solutions include opportunities for expanding supply linkages and market access at the domestic\, regional and international levels through\, for instance\, e-commerce\, logistical and other technology tools and solutions for better commercial\, financial and legal management and practices for competitive SMEs.
X-ALT-DESC;FMTTYPE=text/html:<span style="font-size:12px\;"><span style="font-family: arial\,sans-serif\;">The Council\, through the US-ASEAN Business Alliance for Competitive SMEs\, is organizing a workshop on Good Business Practices for Improved Market Competitiveness in Phnom Penh\, Cambodia\, January 30\, 2015. </span><br />\n&nbsp\;<br />\n<span style="font-family: arial\,sans-serif\;">The main objective of the workshop is to transfer broad-based and basic entry-level information\, knowledge and skills from MNCs to Cambodian SMEs on various good business\, financial and legal practices and solutions in enhancing competiveness.&nbsp\; These practices and solutions include opportunities for expanding supply linkages and market access at the domestic\, regional and international levels through\, for instance\, e-commerce\, logistical and other technology tools and solutions for better commercial\, financial and legal management and practices for competitive SMEs.</span></span>
LOCATION:Cambodia-Japan Cooperation Center (CJCC)\, Phnom Penh\, Cambodia
UID:e.9078.1333
SEQUENCE:3
DTSTAMP:20260419T221723Z
URL:http://memberzone.usasean.org/events/details/asean-sme-workshop-in-cambodia-01-30-2015-1333
END:VEVENT

END:VCALENDAR
