BEGIN:VCALENDAR
VERSION:2.0
PRODID:-//ChamberMaster//Event Calendar 2.0//EN
METHOD:PUBLISH
X-PUBLISHED-TTL:P3D
REFRESH-INTERVAL:P3D
CALSCALE:GREGORIAN
BEGIN:VEVENT
DTSTART:20220408T010000Z
DTEND:20220408T030000Z
X-MICROSOFT-CDO-ALLDAYEVENT:FALSE
SUMMARY:ASEAN SME Academy 2.0 Launch Event
DESCRIPTION:"Adapt\, Upskill\, Excel: Building ASEAN SMEs' Resilience with ASEAN SME Academy 2.0"\n\n\n\n\n\nThe US-ASEAN Business Council is proudly announcing the launch event of ASEAN SME Academy 2.0 (the Academy) which will be organized on April 8\, 2022. The event will be held in Manila and simultaneously live-streamed through the virtual platform. The Academy is a free online learning platform which accessible for the ASEAN small and medium enterprises. It is an official ASEAN platform which the Council is partnering with ASEAN Coordinating Committee for MSMEs (ACCMSME). The new website aims of improving the learning experience through more centralized\, user-friendly\, and inclusive resources for SMEs by providing content in several ASEAN languages (i.e. Thai\, Bahasa Indonesia\, and Vietnamese)\, new visual designs\, mobile accessibility\, certifications\, curated COVID-19 Module Tab\, and various resources for SMEs to access.\n\n\n\nThe launch event will be consists of remarks from dignitaries\, keynote address\, launching of the ASEAN SME Academy 2.0\, and dialogue session titled "Upskilling the ASEAN SMEs through the ASEAN SME Academy 2.0" with AWS and Visa. The launch event will kick off the Council's overall SME activities in 2022. For more details on the 2022 SME Program\, please contact Nugraheni Utami (utami@usasean.org).
X-ALT-DESC;FMTTYPE=text/html:<span style="font-family:arial\;"><span style="font-size:20px\;"><span class="JsGRdQ" style="font-weight: 700\; font-style: italic\;">&quot\;Adapt\, Upskill\, Excel: Building ASEAN SMEs&#39\; Resilience with ASEAN SME Academy 2.0&quot\;</span></span></span><br />\n<br />\n<br />\n<span style="font-size:14px\;"><span style="caret-color: rgb(0\, 0\, 0)\; font-family: Calibri\, sans-serif\;">The US-ASEAN Business Council is proudly announcing the&nbsp\;</span><a href="http://usasean.memberzone.com/events/details/asean-sme-academy-2-0-launch-event-8730?calendarMonth=2022-04-01" style="color: rgb(5\, 99\, 193)\; font-family: Calibri\, sans-serif\; font-size: 14.666666984558105px\;">launch event</a><span style="caret-color: rgb(0\, 0\, 0)\; font-family: Calibri\, sans-serif\;">&nbsp\;of&nbsp\;</span><a href="https://asean-sme-academy.org/" style="color: rgb(5\, 99\, 193)\; font-family: Calibri\, sans-serif\; font-size: 14.666666984558105px\;">ASEAN SME Academy 2.0</a><span style="caret-color: rgb(0\, 0\, 0)\; font-family: Calibri\, sans-serif\;">&nbsp\;(the Academy) which will be organized on&nbsp\;</span><b style="caret-color: rgb(0\, 0\, 0)\; color: rgb(0\, 0\, 0)\; font-family: Calibri\, sans-serif\; font-size: 14.666666984558105px\;">April 8\, 2022</b><span style="caret-color: rgb(0\, 0\, 0)\; font-family: Calibri\, sans-serif\;">. The event will be held in Manila and simultaneously live-streamed through the virtual platform. The Academy is a free online learning platform which accessible for the ASEAN small and medium enterprises. It is an official ASEAN platform which the Council is partnering with ASEAN Coordinating Committee for MSMEs (ACCMSME). The new website aims of improving the learning experience through more centralized\, user-friendly\, and inclusive resources for SMEs by providing content in several ASEAN languages (i.e. Thai\, Bahasa Indonesia\, and Vietnamese)\, new visual designs\, mobile accessibility\, certifications\, curated COVID-19 Module Tab\, and various resources for SMEs to access.<br />\n<br />\nThe launch event will be consists of remarks from dignitaries\, keynote address\, launching of the ASEAN SME Academy 2.0\, and dialogue session titled &quot\;Upskilling the ASEAN SMEs through the ASEAN SME Academy 2.0&quot\; with AWS and Visa.&nbsp\;The launch event will kick off the Council&rsquo\;s overall SME activities in 2022. For more details on the&nbsp\;</span><a href="http://usasean.memberzone.com/events/details/2022-sme-program-8679?calendarMonth=2022-01-01" style="color: rgb(5\, 99\, 193)\; font-family: Calibri\, sans-serif\; font-size: 14.666666984558105px\;">2022 SME Program</a><span style="caret-color: rgb(0\, 0\, 0)\; font-family: Calibri\, sans-serif\;">\, please contact&nbsp\;</span><b style="caret-color: rgb(0\, 0\, 0)\; color: rgb(0\, 0\, 0)\; font-family: Calibri\, sans-serif\; font-size: 14.666666984558105px\;">Nugraheni Utami</b><span style="caret-color: rgb(0\, 0\, 0)\; font-family: Calibri\, sans-serif\;">&nbsp\;(</span><a href="mailto:utami@usasean.org" style="color: rgb(5\, 99\, 193)\; font-family: Calibri\, sans-serif\; font-size: 14.666666984558105px\;">utami@usasean.org</a><span style="caret-color: rgb(0\, 0\, 0)\; font-family: Calibri\, sans-serif\;">).</span></span>
LOCATION:VENUE: PTTC OFFICE\, MANILA\, THE PHILIPPINES VIRTUAL PLATFORM: ZOOM WEBINAR/FACEBOOK LIVESTREAM Registration: https://bit.ly/AcademyLaunch2022
UID:e.9078.8730
SEQUENCE:3
DTSTAMP:20260422T171921Z
URL:http://memberzone.usasean.org/events/details/asean-sme-academy-2-0-launch-event-8730
END:VEVENT

END:VCALENDAR
