BEGIN:VCALENDAR
VERSION:2.0
PRODID:-//ChamberMaster//Event Calendar 2.0//EN
METHOD:PUBLISH
X-PUBLISHED-TTL:P3D
REFRESH-INTERVAL:P3D
CALSCALE:GREGORIAN
BEGIN:VEVENT
DTSTART;VALUE=DATE:20140910
DTEND;VALUE=DATE:20140913
TRANSP:TRANSPARENT
X-MICROSOFT-CDO-ALLDAYEVENT:TRUE
SUMMARY:ASEAN Power Week
DESCRIPTION:ASEAN Power Week is the largest and most comprehensive conference and exhibition for the power generation industry within South-East Asia\, and is supported among others by the Ministry of Energy\, Green Technology and Water (KeTTHA)\, Sustainable Energy Development Authority of Malaysia (SEDA) and the Malaysian Convention & Exhibition Bureau (MyCEB). There are three major events under ASEAN Power Week: POWER-GEN Asia\, Renewable Energy World Asia and the newly created POWER-GEN Asia Financial Forum.\n\n\n\nPOWER-GEN Asia is the region's premier conference and exhibition for all aspects of the power generation industry. It celebrates its 22nd annual gathering with a comprehensive conference program for the conventional power generation industry. The co-located events are Renewable Energy World Asia\, which once again brings together professionals and industry experts from the renewable energy industry\, and the inaugural POWER-GEN Asia Financial Forum\, which is designed to provide corporate-level project developers and financiers an exclusive venue to learn\, network and do business.
X-ALT-DESC;FMTTYPE=text/html:ASEAN Power Week is&nbsp\;the largest and most comprehensive conference and exhibition for the power generation industry within South-East Asia\, and is supported among others by the Ministry of Energy\, Green Technology and Water (KeTTHA)\, Sustainable Energy Development Authority of Malaysia (SEDA) and the Malaysian Convention &amp\; Exhibition Bureau (MyCEB).&nbsp\;There are&nbsp\;three major events under ASEAN Power Week: POWER-GEN Asia\, Renewable Energy World Asia and the newly created POWER-GEN Asia Financial Forum.<br />\n<br />\nPOWER-GEN Asia is the region&#39\;s premier conference and exhibition for all aspects of the power generation industry. It&nbsp\;celebrates its 22nd annual gathering with a comprehensive conference program for the conventional power generation industry. The co-located events are Renewable Energy World Asia\, which once again brings together professionals and industry experts from the renewable energy industry\, and the inaugural POWER-GEN Asia Financial Forum\, which is designed to provide corporate-level project developers and financiers an exclusive venue to learn\, network and do business.<br />\n<br />\n&nbsp\;
LOCATION:Kuala Lumpur
UID:e.9078.1173
SEQUENCE:3
DTSTAMP:20260420T052321Z
URL:http://memberzone.usasean.org/events/details/asean-power-week-09-10-2014-1173
END:VEVENT

END:VCALENDAR
