BEGIN:VCALENDAR
VERSION:2.0
PRODID:-//ChamberMaster//Event Calendar 2.0//EN
METHOD:PUBLISH
X-PUBLISHED-TTL:P3D
REFRESH-INTERVAL:P3D
CALSCALE:GREGORIAN
BEGIN:VEVENT
DTSTART:20150227T013000Z
DTEND:20150227T023000Z
X-MICROSOFT-CDO-ALLDAYEVENT:FALSE
SUMMARY:ASEAN Online SME Academy Updates and Q&A
DESCRIPTION:Call on updates and Q&A Session on ASEAN Online SME Academy
X-ALT-DESC;FMTTYPE=text/html:Call on updates and Q&amp\;A Session on ASEAN Online SME Academy
LOCATION:Call details Toll-free dial-in number (U.S. and Canada): (877) 505-1427 International dial-in number: (281) 319-9194 Conference code: 1029261120
UID:e.9078.1490
SEQUENCE:3
DTSTAMP:20260419T203358Z
URL:http://memberzone.usasean.org/events/details/asean-online-sme-academy-updates-and-q-a-02-26-2015-1490
END:VEVENT

END:VCALENDAR
