BEGIN:VCALENDAR
VERSION:2.0
PRODID:-//ChamberMaster//Event Calendar 2.0//EN
METHOD:PUBLISH
X-PUBLISHED-TTL:P3D
REFRESH-INTERVAL:P3D
CALSCALE:GREGORIAN
BEGIN:VEVENT
DTSTART;VALUE=DATE:20111024
DTEND;VALUE=DATE:20111026
TRANSP:TRANSPARENT
X-MICROSOFT-CDO-ALLDAYEVENT:TRUE
SUMMARY:ASEAN ICT Dialogue\, Manila\, Oct 24-25 2011 - Oct 24 2011
DESCRIPTION:
X-ALT-DESC;FMTTYPE=text/html:
LOCATION:
UID:e.9078.329
SEQUENCE:3
DTSTAMP:20260425T234644Z
URL:http://memberzone.usasean.org/events/details/asean-ict-dialogue-manila-oct-24-25-2011-oct-24-2011-10-24-2011-329
END:VEVENT

END:VCALENDAR
