BEGIN:VCALENDAR
VERSION:2.0
PRODID:-//ChamberMaster//Event Calendar 2.0//EN
METHOD:PUBLISH
X-PUBLISHED-TTL:P3D
REFRESH-INTERVAL:P3D
CALSCALE:GREGORIAN
BEGIN:VEVENT
DTSTART:20140312T223000Z
DTEND:20140312T233000Z
X-MICROSOFT-CDO-ALLDAYEVENT:FALSE
SUMMARY:ASEAN Dialogue with Ambassador Joe Yun
DESCRIPTION:ASEAN Dialogue Series with Ambassador Joseph Yun
X-ALT-DESC;FMTTYPE=text/html:ASEAN Dialogue Series with Ambassador Joseph Yun&nbsp\;&nbsp\;&nbsp\;&nbsp\;&nbsp\;&nbsp\;&nbsp\;
LOCATION:Darden Offices 1455 Pennsylvania Avenue NW Suite 400 Washington\, D.C.
UID:e.9078.1078
SEQUENCE:3
DTSTAMP:20260420T171647Z
URL:http://memberzone.usasean.org/events/details/asean-dialogue-with-ambassador-joe-yun-03-12-2014-1078
END:VEVENT

END:VCALENDAR
