BEGIN:VCALENDAR
VERSION:2.0
PRODID:-//ChamberMaster//Event Calendar 2.0//EN
METHOD:PUBLISH
X-PUBLISHED-TTL:P3D
REFRESH-INTERVAL:P3D
CALSCALE:GREGORIAN
BEGIN:VEVENT
DTSTART;VALUE=DATE:20111006
DTEND;VALUE=DATE:20111007
TRANSP:TRANSPARENT
X-MICROSOFT-CDO-ALLDAYEVENT:TRUE
SUMMARY:ASEAN Committee Meeting\, October 6\, 2011 - Oct 6 2011
DESCRIPTION:
X-ALT-DESC;FMTTYPE=text/html:
LOCATION:
UID:e.9078.326
SEQUENCE:3
DTSTAMP:20260425T234834Z
URL:http://memberzone.usasean.org/events/details/asean-committee-meeting-october-6-2011-oct-6-2011-10-06-2011-326
END:VEVENT

END:VCALENDAR
