BEGIN:VCALENDAR
VERSION:2.0
PRODID:-//ChamberMaster//Event Calendar 2.0//EN
METHOD:PUBLISH
X-PUBLISHED-TTL:P3D
REFRESH-INTERVAL:P3D
CALSCALE:GREGORIAN
BEGIN:VEVENT
DTSTART:20150121T010000Z
DTEND:20150121T030000Z
X-MICROSOFT-CDO-ALLDAYEVENT:FALSE
SUMMARY:ASEAN Committee Meeting
DESCRIPTION:ASEAN Committee Meeting
X-ALT-DESC;FMTTYPE=text/html:ASEAN Committee Meeting
LOCATION:Procter & Gamble 11 North Buona Vista Drive #21-07\, The Metropolis Tower 2 Singapore 138589
UID:e.9078.1342
SEQUENCE:3
DTSTAMP:20260419T221945Z
URL:http://memberzone.usasean.org/events/details/asean-committee-meeting-01-20-2015-1342
END:VEVENT

END:VCALENDAR
