BEGIN:VCALENDAR
VERSION:2.0
PRODID:-//ChamberMaster//Event Calendar 2.0//EN
METHOD:PUBLISH
X-PUBLISHED-TTL:P3D
REFRESH-INTERVAL:P3D
CALSCALE:GREGORIAN
BEGIN:VEVENT
DTSTART:20140425T003000Z
DTEND:20140425T013000Z
X-MICROSOFT-CDO-ALLDAYEVENT:FALSE
SUMMARY:ASEAN Committee Conference Call
DESCRIPTION:ASEAN Committee Conference Call
X-ALT-DESC;FMTTYPE=text/html:ASEAN Committee Conference Call
LOCATION:Dial in #s to be made available after registration
UID:e.9078.1118
SEQUENCE:3
DTSTAMP:20260420T152148Z
URL:http://memberzone.usasean.org/events/details/asean-committee-conference-call-04-24-2014-1118
END:VEVENT

END:VCALENDAR
