BEGIN:VCALENDAR
VERSION:2.0
PRODID:-//ChamberMaster//Event Calendar 2.0//EN
METHOD:PUBLISH
X-PUBLISHED-TTL:P3D
REFRESH-INTERVAL:P3D
CALSCALE:GREGORIAN
BEGIN:VEVENT
DTSTART:20201218T003000Z
DTEND:20201218T020000Z
X-MICROSOFT-CDO-ALLDAYEVENT:FALSE
SUMMARY:ASEAN Committee Call with CDA Melissa Brown
DESCRIPTION:The Council is pleased to invite you to join the ASEAN Committee Call on Friday\, December 18 at 08.30 - 10.00 AM (SGT) or Tuesday\, December 17 at 07.30 - 09.00 PM (ET). \n\n\n\nThe Call will feature a briefing by Ms. Melissa Brown\, Charg  d'Affaires\, a.i. at the U.S. Mission to ASEAN. The proposed meeting agenda is as follows:\n\n	Welcome Remarks by Alexander C. Feldman\, Chairman\, President & CEO\, US-ABC\n	Remarks by Simon Dale\, Managing Director\, Southeast Asia (SEA)\, Adobe and Chair of ASEAN Committee\, US-ABC.\n	Briefing by CDA Melissa Brown\n	\n		Key Takeaways from ASEAN Summit 2020\n		U.S. Government views on Regional Comprehensive Economic Partnership (RCEP)\n		U.S.-ASEAN Economic Relations Priorities in 2021. \n	\n	\n	Q&A with CDA Melissa Brown\, moderated by Amb. Michael Michalak\, Senior Vice President and Managing Regional Director\, US-ABC\n	Overview of the 2021 ASEAN Committee Program. Please see attached file of draft ASEAN Workplan 2021 for your review. \n	Open Discussion on the 2021 ASEAN Committee Program\n	Conclusion and Closing
X-ALT-DESC;FMTTYPE=text/html:<span style="color:#333333\;"><span style="font-family:arial\,sans-serif\;"><span style="font-size:12.0pt\;">The Council is pleased to invite you to join the&nbsp\;<strong>ASEAN Committee Call</strong>&nbsp\;on&nbsp\;<strong>Friday\, December 18 at 08.30 - 10.00 AM (SGT) or Tuesday\, December 17 at 07.30 - 09.00 PM (ET).&nbsp\;</strong><br />\n<br />\nThe Call will feature a briefing by&nbsp\;<strong>Ms. Melissa Brown\, Charg&eacute\; d&#39\;Affaires\, a.i. at the U.S. Mission to ASEAN</strong>.&nbsp\;<u>The proposed meeting agenda is as follows:</u></span></span></span>\n<ul>\n	<li style="color:#333333\;text-align:justify\;line-height:normal\;"><span style="font-family:arial\,sans-serif\;"><span style="font-size:12.0pt\;">Welcome Remarks by Alexander C. Feldman\, Chairman\, President &amp\; CEO\, US-ABC</span></span></li>\n	<li style="color:#333333\;text-align:justify\;line-height:normal\;"><span style="font-family:arial\,sans-serif\;"><span style="font-size:12.0pt\;">Remarks by Simon Dale\, Managing Director\, Southeast Asia (SEA)\, Adobe and Chair of ASEAN Committee\, US-ABC.</span></span></li>\n	<li style="color:#333333\;text-align:justify\;line-height:normal\;"><span style="font-family:arial\,sans-serif\;"><span style="font-size:12.0pt\;">Briefing by CDA Melissa Brown</span></span>\n	<ul>\n		<li style="color:#333333\;text-align:justify\;line-height:normal\;"><span style="font-family:arial\,sans-serif\;"><span style="font-size:12.0pt\;">Key Takeaways from ASEAN Summit 2020</span></span></li>\n		<li style="color:#333333\;text-align:justify\;line-height:normal\;"><span style="font-family:arial\,sans-serif\;"><span style="font-size:12.0pt\;">U.S. Government views on Regional Comprehensive Economic Partnership (RCEP)</span></span></li>\n		<li style="color:#333333\;text-align:justify\;line-height:normal\;"><span style="font-family:arial\,sans-serif\;"><span style="font-size:12.0pt\;">U.S.-ASEAN Economic Relations Priorities in 2021.&nbsp\;</span></span></li>\n	</ul>\n	</li>\n	<li style="color:#333333\;text-align:justify\;line-height:normal\;"><span style="font-family:arial\,sans-serif\;"><span style="font-size:12.0pt\;">Q&amp\;A with CDA Melissa Brown\, moderated by Amb. Michael Michalak\, Senior Vice President and Managing Regional Director\, US-ABC</span></span></li>\n	<li style="color:#333333\;text-align:justify\;line-height:normal\;"><span style="font-family:arial\,sans-serif\;"><span style="font-size:12.0pt\;">Overview of the 2021 ASEAN Committee Program. Please see attached file of draft ASEAN Workplan 2021 for your review. </span></span></li>\n	<li style="color:#333333\;text-align:justify\;line-height:normal\;"><span style="font-family:arial\,sans-serif\;"><span style="font-size:12.0pt\;">Open Discussion on the 2021 ASEAN Committee Program</span></span></li>\n	<li style="color:#333333\;text-align:justify\;line-height:normal\;"><span style="font-family:arial\,sans-serif\;"><span style="font-size:12.0pt\;">Conclusion and Closing&nbsp\;</span></span></li>\n</ul>\n
LOCATION:Zoom
UID:e.9078.8357
SEQUENCE:3
DTSTAMP:20260420T050745Z
URL:http://memberzone.usasean.org/events/details/asean-committee-call-with-cda-melissa-brown-8357
END:VEVENT

END:VCALENDAR
